BEGIN:VCALENDAR
VERSION:2.0
PRODID:-//Damas del Pilar - ECPv6.15.18//NONSGML v1.0//EN
CALSCALE:GREGORIAN
METHOD:PUBLISH
X-WR-CALNAME:Damas del Pilar
X-ORIGINAL-URL:https://www.damasdelpilar.es
X-WR-CALDESC:Eventos para Damas del Pilar
REFRESH-INTERVAL;VALUE=DURATION:PT1H
X-Robots-Tag:noindex
X-PUBLISHED-TTL:PT1H
BEGIN:VTIMEZONE
TZID:Europe/Madrid
BEGIN:DAYLIGHT
TZOFFSETFROM:+0100
TZOFFSETTO:+0200
TZNAME:CEST
DTSTART:20250330T010000
END:DAYLIGHT
BEGIN:STANDARD
TZOFFSETFROM:+0200
TZOFFSETTO:+0100
TZNAME:CET
DTSTART:20251026T010000
END:STANDARD
BEGIN:DAYLIGHT
TZOFFSETFROM:+0100
TZOFFSETTO:+0200
TZNAME:CEST
DTSTART:20260329T010000
END:DAYLIGHT
BEGIN:STANDARD
TZOFFSETFROM:+0200
TZOFFSETTO:+0100
TZNAME:CET
DTSTART:20261025T010000
END:STANDARD
BEGIN:DAYLIGHT
TZOFFSETFROM:+0100
TZOFFSETTO:+0200
TZNAME:CEST
DTSTART:20270328T010000
END:DAYLIGHT
BEGIN:STANDARD
TZOFFSETFROM:+0200
TZOFFSETTO:+0100
TZNAME:CET
DTSTART:20271031T010000
END:STANDARD
END:VTIMEZONE
BEGIN:VEVENT
DTSTART;TZID=Europe/Madrid:20260912T200000
DTEND;TZID=Europe/Madrid:20260912T200000
DTSTAMP:20260420T150117
CREATED:20211104T101520Z
LAST-MODIFIED:20251107T185955Z
UID:703-1789243200-1789243200@www.damasdelpilar.es
SUMMARY:Misa Fiesta Mensual
DESCRIPTION:Te esperamos en la celebración de nuestra eucaristía\, a las 20h en el Altar Mayor\, con la bendición e imposición de medallas a las nuevas asociadas\, y homenaje a nuestras Damas difuntas.
URL:https://www.damasdelpilar.es/evento/misa-fiesta-mensual-11/
END:VEVENT
BEGIN:VEVENT
DTSTART;TZID=Europe/Madrid:20261012T080000
DTEND;TZID=Europe/Madrid:20261012T080000
DTSTAMP:20260420T150117
CREATED:20211104T101611Z
LAST-MODIFIED:20251107T190100Z
UID:705-1791792000-1791792000@www.damasdelpilar.es
SUMMARY:Misa Fiesta Mensual
DESCRIPTION:Te esperamos en la celebración de nuestra eucaristía a las 8h de la mañana en el Altar Mayor\, con la bendición e imposición de medallas a las nuevas asociadas\, y homenaje a nuestras Damas difuntas.
URL:https://www.damasdelpilar.es/evento/misa-fiesta-mensual-12/
END:VEVENT
BEGIN:VEVENT
DTSTART;VALUE=DATE:20261013
DTEND;VALUE=DATE:20261014
DTSTAMP:20260420T150117
CREATED:20241116T091138Z
LAST-MODIFIED:20251107T190433Z
UID:976-1791849600-1791935999@www.damasdelpilar.es
SUMMARY:Rosario de Cristal
DESCRIPTION:Las Damas de la Corte de Honor y los Caballeros del Pilar\, acompañamos a nuestro farol de «LA VENIDA DE LA VIRGEN».\nPodéis consultar en la oficina el punto y hora de encuentro durante la primera semana de octubre\, y no olvidéis asistir con la medalla de Damas.\nLas Damas e Infantinas que deseen participar llevando banderín y estandarte\, vistiendo traje regional\, pueden comunicarlo en la oficina.
URL:https://www.damasdelpilar.es/evento/rosario-de-cristal-2/
END:VEVENT
END:VCALENDAR