BEGIN:VCALENDAR
VERSION:2.0
PRODID:-//Damas del Pilar - ECPv6.15.18//NONSGML v1.0//EN
CALSCALE:GREGORIAN
METHOD:PUBLISH
X-WR-CALNAME:Damas del Pilar
X-ORIGINAL-URL:https://www.damasdelpilar.es
X-WR-CALDESC:Eventos para Damas del Pilar
REFRESH-INTERVAL;VALUE=DURATION:PT1H
X-Robots-Tag:noindex
X-PUBLISHED-TTL:PT1H
BEGIN:VTIMEZONE
TZID:Europe/Madrid
BEGIN:DAYLIGHT
TZOFFSETFROM:+0100
TZOFFSETTO:+0200
TZNAME:CEST
DTSTART:20220327T010000
END:DAYLIGHT
BEGIN:STANDARD
TZOFFSETFROM:+0200
TZOFFSETTO:+0100
TZNAME:CET
DTSTART:20221030T010000
END:STANDARD
BEGIN:DAYLIGHT
TZOFFSETFROM:+0100
TZOFFSETTO:+0200
TZNAME:CEST
DTSTART:20230326T010000
END:DAYLIGHT
BEGIN:STANDARD
TZOFFSETFROM:+0200
TZOFFSETTO:+0100
TZNAME:CET
DTSTART:20231029T010000
END:STANDARD
BEGIN:DAYLIGHT
TZOFFSETFROM:+0100
TZOFFSETTO:+0200
TZNAME:CEST
DTSTART:20240331T010000
END:DAYLIGHT
BEGIN:STANDARD
TZOFFSETFROM:+0200
TZOFFSETTO:+0100
TZNAME:CET
DTSTART:20241027T010000
END:STANDARD
END:VTIMEZONE
BEGIN:VEVENT
DTSTART;TZID=Europe/Madrid:20231130T173000
DTEND;TZID=Europe/Madrid:20231130T190000
DTSTAMP:20260424T143534
CREATED:20231023T183002Z
LAST-MODIFIED:20231023T183100Z
UID:880-1701365400-1701370800@www.damasdelpilar.es
SUMMARY:Proyección y charlas sobre la historia de los mantos de la Virgen del Pilar
DESCRIPTION:En el salón de actos de la Casa de la Iglesia tendremos una proyección de los mantos de la Virgen del Pilar\, junto con unas charlas explicativas sobre la historia y procedencia de cada manto\, a cargo de la Dama Conchita Navarro
URL:https://www.damasdelpilar.es/evento/proyeccion-y-charlas-sobre-la-historia-de-los-mantos-de-la-virgen-del-pilar/
END:VEVENT
END:VCALENDAR